BEGIN:VCALENDAR
VERSION:2.0
PRODID:-//eventon.com NONSGML v1.0//EN
CALSCALE:GREGORIAN
METHOD:PUBLISH
BEGIN:VEVENT
UID:69e80f9e0d0eb
DTSTAMP:20260422T030030
DTSTART:20181020
DTEND:20181021
TZID:UTC
LOCATION:Keila-Joa Keila-Joa
SUMMARY:VÜRST JA TANTSIJANNA EHK KLAASIST MÄLU  KEILA – JOA LOSSIS\,  16+
DESCRIPTION: VÜRST JA TANTSIJANNA EHK KLAASIST MÄLU&nbsp; KEILA – JOA LOSSIS&nbsp;&nbsp; 20.10. 2018. Tartust väljasõit kell 14:00 &nbsp;Turu tn. McDonalds’i parklast. Plakatil olevad kuupäevad on aastast 2017! Kohale jõudes vaatame\,  kuidas näeb välja sügisene Keila- Joa juga ja &nbsp;enne etendust saame lossis ringi vaadata nii ruumides\,  kui ka muuseumis. Sissepääs tund[..]\nhttps://estreisid.ee/events/vurst-ja-tantsijanna-ehk-klaasist-malu-keila-joa-lossis-16/
URL:https://estreisid.ee/events/vurst-ja-tantsijanna-ehk-klaasist-malu-keila-joa-lossis-16/
END:VEVENT
END:VCALENDAR