BEGIN:VCALENDAR
VERSION:2.0
PRODID:-//eventon.com NONSGML v1.0//EN
CALSCALE:GREGORIAN
METHOD:PUBLISH
BEGIN:VEVENT
UID:69e86285e00a2
DTSTAMP:20260422T085413
DTSTART:20260717
DTEND:20260718
TZID:Africa/Abidjan
LOCATION:Palmse Palmse
SUMMARY:Suvelavastus Palmses. "Vihmana ma sajan". Vendade Urbide lugu.
DESCRIPTION: Suvelavastus „Vihmana ma sajan. Vendade Urbide lugu“&nbsp; Palmse mõisas &nbsp;17.juulil 2026 Tartust väljasõit kell 15:30 Turu tn McDonalds’i parklast.&nbsp; Palmsesse jõudes võite külastada härrastemaja (2025.a hinnad: pilet kohapealt ostes 10€/pensionär ja 12€/tavapilet). 1923. aastal jagati Palmse mõisa maad asundustaludeks ning mõisasüda oli kuni II maailmasōjani Kaitseliidu kasutada\,  sel ajal hävis[..]\nhttps://estreisid.ee/events/suvelavastus-palmses-vihmana-ma-sajan-vendade-urbide-lugu/
URL:https://estreisid.ee/events/suvelavastus-palmses-vihmana-ma-sajan-vendade-urbide-lugu/
END:VEVENT
END:VCALENDAR