BEGIN:VCALENDAR
VERSION:2.0
PRODID:-//eventon.com NONSGML v1.0//EN
CALSCALE:GREGORIAN
METHOD:PUBLISH
BEGIN:VEVENT
UID:69e889a7377a8
DTSTAMP:20260422T114111
DTSTART:20260726T121700Z
DTEND:20260726T121700Z
TZID:Africa/Abidjan
LOCATION:
SUMMARY:BASKIN - muusikaline suvelavastus Kiidjärvel
DESCRIPTION: &nbsp;&nbsp;&nbsp;&nbsp;&nbsp;&nbsp;&nbsp;&nbsp;&nbsp;&nbsp;&nbsp;&nbsp;&nbsp;&nbsp;&nbsp;&nbsp;&nbsp;&nbsp;&nbsp;&nbsp;&nbsp;&nbsp;&nbsp;&nbsp;&nbsp;&nbsp;&nbsp;&nbsp;&nbsp;&nbsp;&nbsp;&nbsp;&nbsp;&nbsp;&nbsp;&nbsp;&nbsp; Muusikaline suvelavastus „BASKIN“&nbsp; 26.07.2026 &nbsp; Tartust väljasõit kell 17:00&nbsp; Turu tn McDonalds&#8217;i parklast. Enne etendust natuke vaba aega\,  kas nautida Kiidjärve ääres loodust või einestada. Kell 19:00 etenduv muusikaline lavastus „Baskin“ on lugu Eesti estraadikuningast EINO BASKINIST\,  kes painutas kõiki ette antud piire. Baskin oli ainulaadne draamanäitleja\,  koomiku maski[..]\nhttps://estreisid.ee/events/baskin-muusikaline-suvelavastus-kiidjarvel/
URL:https://estreisid.ee/events/baskin-muusikaline-suvelavastus-kiidjarvel/
END:VEVENT
END:VCALENDAR