BEGIN:VCALENDAR
VERSION:2.0
PRODID:-//eventon.com NONSGML v1.0//EN
CALSCALE:GREGORIAN
METHOD:PUBLISH
BEGIN:VEVENT
UID:69e889f73649b
DTSTAMP:20260422T114231
DTSTART:20260501T070000Z
DTEND:20260501T200000Z
TZID:Africa/Abidjan
LOCATION:
SUMMARY:Sigulda taimeparaad - muudetud
DESCRIPTION: SIGULDA&nbsp; taimeparaad &nbsp;01.05.2026 Tartust väljasõit kell 6:30 Turu tn McDonaldsi ja kütusetankla vahelisest parklast. Teepeal pealetulemise võimalus. Siguldas&nbsp; toimub igal kevadel taimeparaad\,  uhke lillelaat ja selle populaarsus aina kasvab! Siia tullakse nii lähemalt kui kaugemalt. Kes lihtsalt kaunist kevadeilma nautima ja päris kirglikud taimehuvilised\,  kes siit kindlasti midagi meelepärast kaasa[..]\nhttps://estreisid.ee/events/sigulda-taimeparaad/
URL:https://estreisid.ee/events/sigulda-taimeparaad/
END:VEVENT
END:VCALENDAR