BEGIN:VCALENDAR
VERSION:2.0
PRODID:-//eventon.com NONSGML v1.0//EN
CALSCALE:GREGORIAN
METHOD:PUBLISH
BEGIN:VEVENT
UID:69e889f72f5c4
DTSTAMP:20260422T114231
DTSTART:20260607T110000Z
DTEND:20260607T211500Z
TZID:Africa/Abidjan
LOCATION:
SUMMARY:ESTONIA teatris operett ORPHEUS PÕRGUS
DESCRIPTION: Estonia teatri külastus. ORPHEUS PÕRGUS 7. juunil 2026&nbsp; &nbsp; &nbsp; &nbsp; &nbsp; &nbsp; &nbsp; &nbsp; &nbsp; &nbsp; &nbsp; &nbsp; &nbsp; &nbsp; &nbsp; &nbsp; &nbsp; &nbsp; &nbsp; &nbsp; &nbsp; &nbsp; &nbsp; &nbsp; &nbsp; &nbsp; &nbsp; &nbsp; &nbsp; &nbsp; &nbsp; &nbsp; &nbsp; &nbsp; &nbsp; &nbsp; &nbsp; &nbsp; &nbsp; Offenbachi operett Tartust väljasõit[..]\nhttps://estreisid.ee/events/estonia-teatris-operett-orpheus-porgus/
URL:https://estreisid.ee/events/estonia-teatris-operett-orpheus-porgus/
END:VEVENT
END:VCALENDAR