BEGIN:VCALENDAR
VERSION:2.0
PRODID:-//eventon.com NONSGML v1.0//EN
CALSCALE:GREGORIAN
METHOD:PUBLISH
BEGIN:VEVENT
UID:69e889b73255d
DTSTAMP:20260422T114127
DTSTART:20260521T153000Z
DTEND:20260521T235900Z
TZID:Africa/Abidjan
LOCATION:
SUMMARY:Pärnu teatrireis. "Arkaadia"
DESCRIPTION: &nbsp;&nbsp;&nbsp;&nbsp;&nbsp;&nbsp;&nbsp;&nbsp;&nbsp;&nbsp;&nbsp;&nbsp;&nbsp;&nbsp;&nbsp;&nbsp;&nbsp;&nbsp;&nbsp;&nbsp;&nbsp;&nbsp;&nbsp;&nbsp;&nbsp;&nbsp;&nbsp;&nbsp;&nbsp;&nbsp;&nbsp;&nbsp;&nbsp;&nbsp;&nbsp;&nbsp;&nbsp;&nbsp;&nbsp;&nbsp;&nbsp;&nbsp;&nbsp;&nbsp;&nbsp; Pärnu teatrireis. „ARKAADIA“ 21.05.2026 Tartust väljasõit kell 15:30 Turu tn McDonaldsi parklast.&nbsp; Sõidame Imavere kaudu. Teepeal saab ühineda. „Me pillame maha ja samas korjame üles. Nagu rändurid\,  kes kõike käe otsas peavad tassima. Ja selle\,  mis meie käest pudeneb\,  korjavad taganttulijad üles. Rongkäik on väga pikk. Me sureme teel.[..]\nhttps://estreisid.ee/events/parnu-teatrireis-arkaadia/
URL:https://estreisid.ee/events/parnu-teatrireis-arkaadia/
END:VEVENT
END:VCALENDAR