BEGIN:VCALENDAR
VERSION:2.0
PRODID:-//eventon.com NONSGML v1.0//EN
CALSCALE:GREGORIAN
METHOD:PUBLISH
BEGIN:VEVENT
UID:69e88aeae097e
DTSTAMP:20260422T114634
DTSTART:20260708T080600Z
DTEND:20260708T193000Z
TZID:Africa/Abidjan
LOCATION:
SUMMARY:Suvised Harjumaa mõisad (Maardu ja Sausti) ja Viimsi Vabaõhumuuseum
DESCRIPTION: &nbsp;&nbsp;&nbsp;&nbsp;&nbsp;&nbsp;&nbsp;&nbsp;&nbsp;&nbsp;&nbsp;&nbsp;&nbsp;&nbsp;&nbsp;&nbsp;&nbsp;&nbsp;&nbsp;&nbsp;&nbsp;&nbsp;&nbsp;&nbsp;&nbsp;&nbsp;&nbsp;&nbsp;&nbsp;&nbsp;&nbsp;&nbsp;&nbsp;&nbsp;&nbsp;&nbsp;&nbsp;&nbsp;&nbsp;&nbsp;&nbsp;&nbsp;&nbsp;&nbsp;&nbsp;&nbsp;&nbsp;&nbsp;&nbsp;&nbsp;&nbsp; Suvised Harjumaa mõisad&nbsp; 08.07. 2026 Tartust väljasõit kell 8:00 Turu tn McDonalds’i parklast. &nbsp;Maardu mõisa (Maarthe) ajalugu ulatub 14. sajandisse. Barokkstiilis mõis on üks varasemaid ja väärtuslikumaid esinduslikult väljaehitatud mõisaansambleid Harjumaal. Mõisa peahoone on ehitatud 17. sajandi teises pooles\,  19. sajandil laiendati peahoonet ja valmisid ka teised hooned. Kõige[..]\nhttps://estreisid.ee/events/suvised-harjumaa-moisad-maardu-ja-sausti-ja-viimsi-vabaohumuuseum/
URL:https://estreisid.ee/events/suvised-harjumaa-moisad-maardu-ja-sausti-ja-viimsi-vabaohumuuseum/
END:VEVENT
END:VCALENDAR