BEGIN:VCALENDAR
VERSION:2.0
PRODID:-//eventon.com NONSGML v1.0//EN
CALSCALE:GREGORIAN
METHOD:PUBLISH
BEGIN:VEVENT
UID:69e88a2d04962
DTSTAMP:20260422T114325
DTSTART:20260705T120000Z
DTEND:20260705T210000Z
TZID:Africa/Abidjan
LOCATION:
SUMMARY:Peningi mõis ja mõisasaalis Indrek Hargla suvelavastus\,  krimilugu "Testamenditäitjad"
DESCRIPTION: Peningi mõisa külastus koos Indrek Hargla suvelavastuse\,  kriminaalse loo „Testamenditäitjad“ etendusega &nbsp;05.07.26 &nbsp; Tartust väljasõit kell 12:00. Mõisaga tutvumine. Tuur kestab 1h. Mõisas on avatud kohvik. &nbsp;Renoveeritud &nbsp;2’s temaatilises saalis&nbsp; on üks pühendatud Georg Otsale ja teine IME sünnile. &nbsp;Elevust lisas Klassika Raadio saates kõlanud info\,  et perekond Aiki ja[..]\nhttps://estreisid.ee/events/peningi-mois-ja-moisasaalis-indrek-hargla-suvelavastus-krimilugu-testamenditaitjad/
URL:https://estreisid.ee/events/peningi-mois-ja-moisasaalis-indrek-hargla-suvelavastus-krimilugu-testamenditaitjad/
END:VEVENT
END:VCALENDAR