BEGIN:VCALENDAR
VERSION:2.0
PRODID:-//eventon.com NONSGML v1.0//EN
CALSCALE:GREGORIAN
METHOD:PUBLISH
BEGIN:VEVENT
UID:69e88992e9c38
DTSTAMP:20260422T114050
DTSTART:20260808T083000Z
DTEND:20260808T190000Z
TZID:Africa/Abidjan
LOCATION:
SUMMARY:Viljandimaa mõisad ja kultuuriloolised paigad
DESCRIPTION: &nbsp;&nbsp;&nbsp;&nbsp;&nbsp;&nbsp;&nbsp;&nbsp;&nbsp;&nbsp;&nbsp;&nbsp;&nbsp;&nbsp;&nbsp;&nbsp;&nbsp;&nbsp;&nbsp;&nbsp;&nbsp;&nbsp;&nbsp;&nbsp;&nbsp;&nbsp;&nbsp;&nbsp;&nbsp;&nbsp;&nbsp;&nbsp;&nbsp;&nbsp;&nbsp; Viljandimaa mõisad ja kultuuriloolised paigad &nbsp;08.08.2026 Tartust väljasõit kell 8:30 Turu tn McDonalds’i parklast. Olustvere mõisa peahoone on ehitatud järgides juugendstiili 19. sajandil. Peahoone vastas asuv valitseja maja seostub stiililt hästi peahoonega. Teistest hoonetest on tähelepanuväärivad punastest tellistest karjaõu koos meierei ja väravatega\,  viinavabrik ning maantee ääres asuv ait.[..]\nhttps://estreisid.ee/events/viljandimaa-moisad-ja-kultuuriloolised-paigad/
URL:https://estreisid.ee/events/viljandimaa-moisad-ja-kultuuriloolised-paigad/
END:VEVENT
END:VCALENDAR